BEGIN:VCALENDAR
VERSION:2.0
PRODID:-//MAGIC ALL GOAL - ECPv6.15.20//NONSGML v1.0//EN
CALSCALE:GREGORIAN
METHOD:PUBLISH
X-WR-CALNAME:MAGIC ALL GOAL
X-ORIGINAL-URL:https://magicallgoal.ekarri.es
X-WR-CALDESC:Eventos para MAGIC ALL GOAL
REFRESH-INTERVAL;VALUE=DURATION:PT1H
X-Robots-Tag:noindex
X-PUBLISHED-TTL:PT1H
BEGIN:VTIMEZONE
TZID:UTC
BEGIN:STANDARD
TZOFFSETFROM:+0000
TZOFFSETTO:+0000
TZNAME:UTC
DTSTART:20250101T000000
END:STANDARD
END:VTIMEZONE
BEGIN:VEVENT
DTSTART;TZID=UTC:20260419T103000
DTEND;TZID=UTC:20260419T143000
DTSTAMP:20260422T113843
CREATED:20250413T203738Z
LAST-MODIFIED:20260328T205211Z
UID:3713-1776594600-1776609000@magicallgoal.ekarri.es
SUMMARY:TORNEO STORE SHOWDOWN DEL JUEGO STAR WARS UNLIMITED
DESCRIPTION:  \n¡Rebeldes y Soldados Imperiales\, uníos! Torneo de Star Wars: Unlimited – Store Showdown en Vitoria-Gasteiz\n  \nLa batalla por el control de la galaxia llega a Magic All Goal en Vitoria-Gasteiz. ¿Estáis listos para demostrar vuestra habilidad como comandantes? Os invitamos a participar en nuestro emocionante torneo Store Showdown de Star Wars: Unlimited. \n\n  \nDetalles del Evento\n  \n\n¿Qué? Torneo Store Showdown de Star Wars: Unlimited\n¿Cuándo? Domingo 19 de abril\n¿Hora? A las 10:30 de la mañana\n¿Dónde? Magic All Goal\, Vitoria-Gasteiz\nInscripción: 15 euros\n\n\n  \nPremios y Recompensas\n  \nVuestra participación ya tiene premio. Al inscribiros\, recibiréis un pack de recompensas para fortalecer vuestra colección solo por participar.: \n\nTres sobres de la colección a lawless time \nUn sobre Weekly promocional. \n\nAdemás\, los mejores pilotos y estrategas serán recompensados con premios increíbles que provienen de los Kits de Premios exclusivos para este evento: \n\nUn kit Showdown completo con cartas especiales\,  para repartir entre los participantes y también las cartas del top para los ganadores.\nUna caja entera de sobres para repartir entre los ganadores\, para que sigas expandiendo tu poder galáctico.\n\nNo importa si prefieres el lado de la luz o el lado oscuro\, si eres un veterano de la batalla o un novato en este universo. Este torneo es la oportunidad perfecta para medir tu mazo\, conocer a otros jugadores de la comunidad y\, lo más importante\, ¡pasártelo en grande! \n¡Prepara tus cartas\, elige tu bando y ven a luchar por la gloria galáctica! ¡Te esperamos el 19 de abril! \nEnlace para inscribirse al torneo en melee
URL:https://magicallgoal.ekarri.es/evento/torneo-store-showdown-del-juego-star-wars-unlimited/
LOCATION:MAGIC ALL GOAL\, C/FERMÍN LASUEN 7\, VITORIA-GASTEIZ\, ÁLAVA\, 01013\, España
CATEGORIES:STAR WARS UNLMITED
ATTACH;FMTTYPE=image/jpeg:https://magicallgoal.ekarri.es/wp-content/uploads/2025/04/swu-lawless-time-news.jpg
ORGANIZER;CN="MAGIC ALL GOAL":MAILTO:magicallgoal@ekarri.es
END:VEVENT
END:VCALENDAR