BEGIN:VCALENDAR
VERSION:2.0
PRODID:-//MAGIC ALL GOAL - ECPv6.15.20//NONSGML v1.0//EN
CALSCALE:GREGORIAN
METHOD:PUBLISH
X-WR-CALNAME:MAGIC ALL GOAL
X-ORIGINAL-URL:https://magicallgoal.ekarri.es/eu
X-WR-CALDESC:Events for MAGIC ALL GOAL
REFRESH-INTERVAL;VALUE=DURATION:PT1H
X-Robots-Tag:noindex
X-PUBLISHED-TTL:PT1H
BEGIN:VTIMEZONE
TZID:UTC
BEGIN:STANDARD
TZOFFSETFROM:+0000
TZOFFSETTO:+0000
TZNAME:UTC
DTSTART:20250101T000000
END:STANDARD
END:VTIMEZONE
BEGIN:VEVENT
DTSTART;TZID=UTC:20260227T000000
DTEND;TZID=UTC:20260505T220000
DTSTAMP:20260420T224605
CREATED:20260215T152543Z
LAST-MODIFIED:20260228T160223Z
UID:4854-1772150400-1778018400@magicallgoal.ekarri.es
SUMMARY:LIGA DE YU-GI-OH! EN VITORIA-GASTEIZ
DESCRIPTION:🚀 ¡La Liga Duelista Supremo ha llegado! ¡Prepara tus Decks para la Gloria! 🏆\n¡Duelistas! ¿Estáis listos para la batalla definitiva? Hemos preparado una serie de  torneos individuales que no solo te darán la oportunidad de demostrar quién es el mejor de la zona en cada fecha\, sino que también ¡formarán parte de una épica Liga con premios que te dejarán sin aliento! \nCada torneo es una oportunidad de ganar\, pero la verdadera recompensa es la constancia y la amistad. ¡Lee atentamente\, afila tus estrategias y reserva las fechas! \n\n💰 ¡Entrada Épica y Premios por Evento!\nPor tan solo 12€ de inscripción\, tu participación en cada torneo te asegura: \n\n\n1 Sobre de Expansión de Yu-Gi-Oh! \n\n\n1 Sobre  OTS (¡La oportunidad de conseguir cartas foil valiosas!). \n\n\nAdemás\, ¡una parte de la entrada financia la gloria final! \n🔥 ¡Gana Individualmente y Forja el Bote de la Liga!\nCada torneo genera un premio al instante y\, a su vez\, alimenta el bote final: \n\n\nBote Individual (TOP): Se generará UN SOBRE por cada 1 participante que se repartirá entre el Top del torneo (premios por evento). \n\n\nBote Acumulado de la Liga: Una porción de la entrada se destinará a engrosar un súper bote final que se repartirá entre el Podio de la Liga (los 3 jugadores con mejor puntuación total a lo largo de todos los eventos . Serian unos 50 sobres 24 para el ganador 16 para el segundo y 10 para el tercero). \n\nMaˊs jugadores→Mayor Bote Acumulado\n\n¡Cuantos más seamos\, más épico será el premio final! \n\n\n🤝 ¡Trae a tus Amigos\, ¡Ganamos Todos!\n\n\n¡Invita a un amigo o a cualquier interesado! Queremos que esta Liga sea la más grande de la historia. ¡Ayúdanos a llenar las mesas! \n\n\n\n🎁 Premios por Participación: ¡La Constancia se Recompensa!\n\n\n¡RIFA ÉPICA POR UNA CAJA DE SOBRES! Por cada torneo de Liga en el que participes\, te llevas un boleto para el sorteo de ¡UNA CAJA COMPLETA DE SOBRES DE YU-GI-OH! al finalizar la Liga. ¡Juega todos los eventos y tendrás un montón de posibilidades de llevártela! \n\n\nPremio Extra por Completar la Liga: Si participas en los todos los  torneos de la Liga… ¡te llevarás un sobre de Yu-Gi-Oh!  OTS extra de regalo\, solo por demostrar tu compromiso inquebrantable!
URL:https://magicallgoal.ekarri.es/eu/evento/liga-de-yu-gi-oh-en-vitoria-gasteiz/
LOCATION:MAGIC ALL GOAL\, C/FERMÍN LASUEN 7\, VITORIA-GASTEIZ\, ÁLAVA\, 01013\, España
CATEGORIES:Yu-Gi-Oh!
ATTACH;FMTTYPE=image/jpeg:https://magicallgoal.ekarri.es/wp-content/uploads/2022/04/juego_yu-gi-oh-categoria-vitoria.jpg
ORGANIZER;CN="MAGIC ALL GOAL":MAILTO:magicallgoal@ekarri.es
END:VEVENT
BEGIN:VEVENT
DTSTART;TZID=UTC:20260321T101500
DTEND;TZID=UTC:20260321T170000
DTSTAMP:20260420T224605
CREATED:20260124T204233Z
LAST-MODIFIED:20260318T113609Z
UID:4201-1774088100-1774112400@magicallgoal.ekarri.es
SUMMARY:TORNEO CLASIFICATORIO LIGA EUROPEA RCQ SESION 3 STANDARD
DESCRIPTION:🏆 Clasificatorio para la Liga Europea: ¡Demuestra tu nivel en Magic All Goal!\n¡Atención\, comunidad de Magic! Se acerca una de las citas más importantes del calendario competitivo en Vitoria. El próximo domingo 15 de marzo abrimos nuestras puertas para el torneo clasificatorio que te puede llevar directo a las finales regionales de la Liga Europea. \n¿Tienes lo necesario para alzarte con la victoria y representar a la tienda en el circuito europeo? ¡Aquí tienes todos los detalles! \n📅 Detalles del Evento\nFORMATO STANDARD \n\n\n\n\n\n\nFecha: DOMINGO \, 21 de marzo. \n\n\nHora de inicio: 10:15 AM (puntualidad máxima para el check-in). \n\n\nLugar: Magic All Goal Vitoria. \n\n\nInscripción: 20 Euros. \n\n\nAforo máximo: 32 Jugadores (¡Reserva tu plaza antes de que vuelen!). \n\nCódigo eventlink: YEWZRNV\n\n\n\n Arbitraje: Contaremos con un Juez Certificado para garantizar la integridad del torneo. \n\n\n\n🎁 Premios y Promos\nNo solo nos jugamos la gloria; ¡hay un botín épico repartido entre los participantes! \n\n\nPara todos (participación): Carta promo Flowerfloot Swordmaster (limitado a los 32 inscritos). \n\n\nTop 16: Carta promo Manifold Mouse. \n\n\nTop 8: Vales de tienda (reparto según clasificación). \n\n\nGanador: 1 Winner Foil Manifold Mouse + Plaza directa para las Finales Regionales de la Liga Europea. \n\n\n\n✍️ ¿Cómo inscribirse?\nNo te quedes fuera del Top 8. Al ser un torneo de 32 plazas\, te recomendamos asegurar tu sitio lo antes posible directamente en la tienda o contactándonos por nuestros canales habituales. EVENTLINK : \n\n\nYEWZRNV \n\nNota: Recuerda traer tu mazo preparado y muchas ganas de competir en el mejor ambiente de Vitoria.
URL:https://magicallgoal.ekarri.es/eu/evento/4201/
LOCATION:MAGIC ALL GOAL\, C/FERMÍN LASUEN 7\, VITORIA-GASTEIZ\, ÁLAVA\, 01013\, España
CATEGORIES:MAGIC THE GATHERING
ATTACH;FMTTYPE=image/jpeg:https://magicallgoal.ekarri.es/wp-content/uploads/2026/01/RCQVITORIAMARZO212026.jpg
ORGANIZER;CN="MAGIC ALL GOAL":MAILTO:magicallgoal@ekarri.es
END:VEVENT
END:VCALENDAR