BEGIN:VCALENDAR
VERSION:2.0
PRODID:-//MAGIC ALL GOAL - ECPv6.15.20//NONSGML v1.0//EN
CALSCALE:GREGORIAN
METHOD:PUBLISH
X-WR-CALNAME:MAGIC ALL GOAL
X-ORIGINAL-URL:https://magicallgoal.ekarri.es/eu
X-WR-CALDESC:Events for MAGIC ALL GOAL
REFRESH-INTERVAL;VALUE=DURATION:PT1H
X-Robots-Tag:noindex
X-PUBLISHED-TTL:PT1H
BEGIN:VTIMEZONE
TZID:UTC
BEGIN:STANDARD
TZOFFSETFROM:+0000
TZOFFSETTO:+0000
TZNAME:UTC
DTSTART:20250101T000000
END:STANDARD
END:VTIMEZONE
BEGIN:VEVENT
DTSTART;TZID=UTC:20260227T000000
DTEND;TZID=UTC:20260505T220000
DTSTAMP:20260420T224255
CREATED:20260215T152543Z
LAST-MODIFIED:20260228T160223Z
UID:4854-1772150400-1778018400@magicallgoal.ekarri.es
SUMMARY:LIGA DE YU-GI-OH! EN VITORIA-GASTEIZ
DESCRIPTION:🚀 ¡La Liga Duelista Supremo ha llegado! ¡Prepara tus Decks para la Gloria! 🏆\n¡Duelistas! ¿Estáis listos para la batalla definitiva? Hemos preparado una serie de  torneos individuales que no solo te darán la oportunidad de demostrar quién es el mejor de la zona en cada fecha\, sino que también ¡formarán parte de una épica Liga con premios que te dejarán sin aliento! \nCada torneo es una oportunidad de ganar\, pero la verdadera recompensa es la constancia y la amistad. ¡Lee atentamente\, afila tus estrategias y reserva las fechas! \n\n💰 ¡Entrada Épica y Premios por Evento!\nPor tan solo 12€ de inscripción\, tu participación en cada torneo te asegura: \n\n\n1 Sobre de Expansión de Yu-Gi-Oh! \n\n\n1 Sobre  OTS (¡La oportunidad de conseguir cartas foil valiosas!). \n\n\nAdemás\, ¡una parte de la entrada financia la gloria final! \n🔥 ¡Gana Individualmente y Forja el Bote de la Liga!\nCada torneo genera un premio al instante y\, a su vez\, alimenta el bote final: \n\n\nBote Individual (TOP): Se generará UN SOBRE por cada 1 participante que se repartirá entre el Top del torneo (premios por evento). \n\n\nBote Acumulado de la Liga: Una porción de la entrada se destinará a engrosar un súper bote final que se repartirá entre el Podio de la Liga (los 3 jugadores con mejor puntuación total a lo largo de todos los eventos . Serian unos 50 sobres 24 para el ganador 16 para el segundo y 10 para el tercero). \n\nMaˊs jugadores→Mayor Bote Acumulado\n\n¡Cuantos más seamos\, más épico será el premio final! \n\n\n🤝 ¡Trae a tus Amigos\, ¡Ganamos Todos!\n\n\n¡Invita a un amigo o a cualquier interesado! Queremos que esta Liga sea la más grande de la historia. ¡Ayúdanos a llenar las mesas! \n\n\n\n🎁 Premios por Participación: ¡La Constancia se Recompensa!\n\n\n¡RIFA ÉPICA POR UNA CAJA DE SOBRES! Por cada torneo de Liga en el que participes\, te llevas un boleto para el sorteo de ¡UNA CAJA COMPLETA DE SOBRES DE YU-GI-OH! al finalizar la Liga. ¡Juega todos los eventos y tendrás un montón de posibilidades de llevártela! \n\n\nPremio Extra por Completar la Liga: Si participas en los todos los  torneos de la Liga… ¡te llevarás un sobre de Yu-Gi-Oh!  OTS extra de regalo\, solo por demostrar tu compromiso inquebrantable!
URL:https://magicallgoal.ekarri.es/eu/evento/liga-de-yu-gi-oh-en-vitoria-gasteiz/
LOCATION:MAGIC ALL GOAL\, C/FERMÍN LASUEN 7\, VITORIA-GASTEIZ\, ÁLAVA\, 01013\, España
CATEGORIES:Yu-Gi-Oh!
ATTACH;FMTTYPE=image/jpeg:https://magicallgoal.ekarri.es/wp-content/uploads/2022/04/juego_yu-gi-oh-categoria-vitoria.jpg
ORGANIZER;CN="MAGIC ALL GOAL":MAILTO:magicallgoal@ekarri.es
END:VEVENT
BEGIN:VEVENT
DTSTART;TZID=UTC:20260326T170000
DTEND;TZID=UTC:20260430T200000
DTSTAMP:20260420T224255
CREATED:20260120T100623Z
LAST-MODIFIED:20260328T062305Z
UID:4190-1774544400-1777579200@magicallgoal.ekarri.es
SUMMARY:Store tournament de One Piece los jueves y sábados Magic All Goal
DESCRIPTION:Store Tournaments de One Piece en Vitoria: Tus sábados son de Magic All Goal\n¿Buscas dónde jugar al One Piece TCG en Vitoria? ¡Tu tripulación te espera! Cada sábado\, el campo de batalla se traslada a Magic All Goal\, tu tienda de juegos de confianza. \nVen a poner a prueba tu mazo\, suma puntos en el ranking oficial y\, sobre todo\, disfruta del mejor ambiente “nakama” de la ciudad. \n\n### Los Sábados son de One Piece TCG\nEn Magic All Goal sabemos que el sábado es el día sagrado para el TCG. Por eso\, organizamos Store Tournamentssemanales para que la comunidad de Vitoria-Gasteiz siga creciendo. No importa si eres un veterano que busca el Top del Regional o si acabas de comprar tu primer mazo de inicio (Starter Deck); aquí siempre hay sitio en la mesa. \n### Información del Evento\n\n\n📅 Cuándo: Todos los jueves y  sábados. \n\n\n🕔 Hora:  este sabado toca por la tarde a las 17:00 \n\n\n📍 Dónde: Magic All Goal (Calle de los Herrán\, Vitoria-Gasteiz). \n\n\n⚔️ Formato: Construido Estándar (Suizo). \n\n\n💰 Precio: 6 euros \n\n\n### Premios y Packs de Participación\nSiguiendo las directrices oficiales de Bandai para 2026\, repartimos el botín oficial: \n\n\nWinner Pack: Para el campeón de la jornada. \n\n\nTournament Packs: Sobres promocionales para los participantes (según disponibilidad oficial). \n\n\nSorteos: ¡A veces lanzamos algún extra entre los jugadores que se quedan hasta el final! \n\n\n### Domina el Meta en Vitoria\n¿Está tu mazo de Shanks o Blackbeard listo para el combate? En nuestros torneos semanales verás de todo: desde las estrategias más “meta” hasta mazos “rogue” que sorprenden a cualquiera. Es el lugar perfecto para testear tus nuevas cartas antes de los grandes torneos. \n\n\n⚠️ ¡Inscripción mediante TCG+! Recuerda que para los torneos oficiales es imprescindible estar registrado en la App Bandai TCG+. Si tienes dudas\, pásate por la tienda y te ayudamos a configurarlo. \n\n### ¡Únete a la Comunidad!\nNo te quedes solo viendo el anime. Vive la emoción de las cartas en directo. En Magic All Goal no solo vienes a jugar\, vienes a compartir teorías\, cambiar cartas y mejorar tu juego. \n[BOTÓN: VER CALENDARIO EN TCG+ / CONTACTAR CON LA TIENDA]
URL:https://magicallgoal.ekarri.es/eu/evento/torneo-de-one-piece-en-magic-all-goal/
LOCATION:MAGIC ALL GOAL\, C/FERMÍN LASUEN 7\, VITORIA-GASTEIZ\, ÁLAVA\, 01013\, España
CATEGORIES:ONE PIECE
ATTACH;FMTTYPE=image/jpeg:https://magicallgoal.ekarri.es/wp-content/uploads/2025/11/one-piece-juego-de-cartas.jpg
ORGANIZER;CN="MAGIC ALL GOAL":MAILTO:magicallgoal@ekarri.es
END:VEVENT
BEGIN:VEVENT
DTSTART;TZID=UTC:20260401T170000
DTEND;TZID=UTC:20260429T210000
DTSTAMP:20260420T224255
CREATED:20250708T212527Z
LAST-MODIFIED:20260328T062222Z
UID:3824-1775062800-1777496400@magicallgoal.ekarri.es
SUMMARY:DIGIMON CARD GAME instant local store tournament los miércoles
DESCRIPTION:  \n¡Atención\, Tamers de Vitoria-Gasteiz y alrededores!\n  \n¿Listos para demostrar su habilidad y estrategia en el Digimon Card Game? \n¡Están todos invitados a participar en nuestro próximo  instant local Store Tournament en Magic All Goal! Reúnan a sus Digimon más poderosos\, preparen sus mejores mazos y únanse a nosotros para una tarde llena de emocionantes batallas y camaradería Digimon. \nSerá una excelente oportunidad para poner a prueba sus habilidades\, conocer a otros jugadores de la comunidad y\, por supuesto\, ¡tener la oportunidad de ganar premios increíbles! \n\n  \nDetalles del Torneo:\n  \n\nJuego: Digimon Card Game\nTienda: Magic All Goal\nHora: 17:00 h\nDía: Los miércoles .\nFormato: Construido\n\n\n¡No se queden fuera! Las plazas son limitadas\, así que les recomendamos que se inscriban con antelación en la tienda o contactando con nosotros. \n¡Los esperamos en Magic All Goal para una jornada Digimon inolvidable!
URL:https://magicallgoal.ekarri.es/eu/evento/digimon-card-game-store-tournament/
LOCATION:MAGIC ALL GOAL\, C/FERMÍN LASUEN 7\, VITORIA-GASTEIZ\, ÁLAVA\, 01013\, España
CATEGORIES:DIGIMON
ATTACH;FMTTYPE=image/jpeg:https://magicallgoal.ekarri.es/wp-content/uploads/2022/04/juego-digimon-card-game-vitoria-1.jpg
ORGANIZER;CN="MAGIC ALL GOAL":MAILTO:magicallgoal@ekarri.es
END:VEVENT
BEGIN:VEVENT
DTSTART;TZID=UTC:20260404T100000
DTEND;TZID=UTC:20260404T170000
DTSTAMP:20260420T224255
CREATED:20260315T153005Z
LAST-MODIFIED:20260315T153213Z
UID:4915-1775296800-1775322000@magicallgoal.ekarri.es
SUMMARY:Torneo Riftbound Skirmish en Vitoria
DESCRIPTION:Torneo Riftbound Skirmish en Vitoria: ¡Conquista el Nexo este 4 de Abril en Magic All Goal!\n¡Atención\, invocadores! El Nexo se abre en Vitoria-Gasteiz. El próximo sábado 4 de abril\, las mesas de Magic All Goalse llenarán de estrategia\, campeones y mucha acción con nuestro evento oficial de Riftbound Skirmish. \nSi has estado perfeccionando tu mazo y tus tácticas de despliegue\, ha llegado el momento de demostrarlo y llevarte a casa premios exclusivos. \n\n### Detalles del Evento\n\n\n📅 Fecha: Sábado\, 4 de abril de 2026. \n\n\n🕙 Hora: 10:00h (Inicio de primera ronda puntual). \n\n\n📍 Lugar: Magic All Goal (Vitoria-Gasteiz). \n\n\n⚔️ Formato: Skirmish Oficial. \n\n\n💰 Precio de Inscripción: 18€. \n\n\n### Un Botín a la Altura de un Campeón\nEn este torneo\, nadie se va con las manos vacías y los mejores tendrán recompensas legendarias: \n\n\nSolo por participar: Te aseguras 2 sobres de expansión para mejorar tu colección desde el minuto uno. \n\n\nPara los Ganadores: ¡Sobres adicionales! Cuanto más alto quedes en el ranking\, mayor será tu parte del tesoro. \n\n\nPremios Oficiales de Kit de Torneo: * El Tapete Oficial de Riftbound para el vencedor (¡una pieza de coleccionista espectacular!). \n\n\nCartas Promocionales exclusivas para el Top\, con artes que no encontrarás en los sobres normales. \n\n\n\n\n### ¿Por qué participar en Magic All Goal?\nMás allá de los premios\, nuestros eventos de Riftbound son la mejor oportunidad para conocer a otros jugadores de la zona\, intercambiar cartas y aprender nuevas sinergias. El meta de este 2026 está más emocionante que nunca\, y queremos que nuestra comunidad en Vitoria sea la más potente. \n\n\n⚠️ ¡Plazas Muy Limitadas! Los eventos de Riftbound suelen llenarse rápido debido a la alta demanda de los kits oficiales. No esperes al último día para asegurar tu sitio. \n\n### Cómo inscribirte\nPuedes reservar tu plaza de las siguientes formas: \n\n\nEn la tienda: Pásate a vernos por la Calle Fermín Lasuen \n\n\nOnline/App: A través de nuestros canales habituales de reserva de torneos. \n\n\nMensaje Directo: Escríbenos por redes sociales.
URL:https://magicallgoal.ekarri.es/eu/evento/torneo-riftbound-skirmish-en-vitoria/
LOCATION:MAGIC ALL GOAL\, C/FERMÍN LASUEN 7\, VITORIA-GASTEIZ\, ÁLAVA\, 01013\, España
CATEGORIES:RIFTBOUND
ATTACH;FMTTYPE=image/png:https://magicallgoal.ekarri.es/wp-content/uploads/2026/03/Riftbound-League-of-Legends-min-edited.png
ORGANIZER;CN="MAGIC ALL GOAL":MAILTO:magicallgoal@ekarri.es
END:VEVENT
BEGIN:VEVENT
DTSTART;TZID=UTC:20260410T170000
DTEND;TZID=UTC:20260410T210000
DTSTAMP:20260420T224255
CREATED:20251026T103203Z
LAST-MODIFIED:20260406T185256Z
UID:4000-1775840400-1775854800@magicallgoal.ekarri.es
SUMMARY:FRIDAY NIGHT MAGIC the gathering torneo  liga pauper en Vitoria
DESCRIPTION:Torneo de “Magic the gathering” celebrado únicamente el viernes de cada semana en Vitoria-Gasteiz en “Magic all Goal”. Estos torneos se celebraran cada viernes dentro de la tienda de juegos de Vitoria MAGIC ALL GOAL\, y serán celebrados en diferentes formatos. En esta ocasión se celebrará un torneo de formato construido. Existen dos opciones para participar: personarse los viernes a las 17:00 o preinscribirse con la aplicación móvil companion.
URL:https://magicallgoal.ekarri.es/eu/evento/friday-night-magic-the-gathering-torneo-liga-pauper-en-vitoria-4/
LOCATION:MAGIC ALL GOAL\, C/FERMÍN LASUEN 7\, VITORIA-GASTEIZ\, ÁLAVA\, 01013\, España
CATEGORIES:MAGIC THE GATHERING
ATTACH;FMTTYPE=image/jpeg:https://magicallgoal.ekarri.es/wp-content/uploads/2020/04/tienda-oficial-magic-wizards-play-network-vitoria.jpg
ORGANIZER;CN="MAGIC ALL GOAL":MAILTO:magicallgoal@ekarri.es
END:VEVENT
BEGIN:VEVENT
DTSTART;TZID=UTC:20260410T170000
DTEND;TZID=UTC:20260410T210000
DTSTAMP:20260420T224255
CREATED:20251108T112428Z
LAST-MODIFIED:20260406T184950Z
UID:4021-1775840400-1775854800@magicallgoal.ekarri.es
SUMMARY:FNM Liga Commander del juego Magic the gathering
DESCRIPTION:¡Desata el Poder de tu Comandante! Liga de Commander en Magic All Goal\n  \n¡Saludos\, Planeswalkers! ¿Están listos para un verano lleno de estrategia\, alianzas cambiantes y batallas épicas? En Magic All Goal\, estamos emocionados de anunciar nuestra nueva Liga de Commander de Magic: The Gathering\, ¡una oportunidad perfecta para poner a prueba a tus comandantes favoritos y llevarte premios increíbles! \n\n  \n¿Cuándo y Dónde?\n  \nLa acción de Commander se desatará todos los viernes de diciembre  a partir de las 17:00 (5 PM) en nuestra tienda de juegos\, Magic All Goal\, aquí en Vitoria-Gasteiz. Marquen sus calendarios: \n\n\n  \n\n\n\n\n\n\n\n\n\n\n\n\n\n\n  \nCada viernes será un torneo independiente\, pero todos ellos sumarán puntos para una emocionante liga mensual. \n\n  \n¿Cómo Funciona la Liga de Commander?\n  \nHemos diseñado esta liga para recompensar tanto la consistencia como la victoria individual: \n\nTorneos Independientes: Cada viernes\, se jugará un torneo de Commander. con sus respectivos premios.  El ganador de cada torneo se llevará el reconocimiento \,y\, ¡lo mejor de todo\, la inscripción gratuita para el siguiente torneo de la liga!\nPuntuación de Liga: Los resultados de cada torneo sumarán puntos para una clasificación general de la liga de agosto. ¡El mejor jugador de los cuatro torneos se llevará un premio gordo al final del mes!\nPremio por Participación: Sabemos que la pasión por Commander es lo que realmente importa. Por eso\, cualquier jugador que participe en los cuatro torneos de la liga de agosto recibirá un premio seguro por su empeño y dedicación.\n\n\n  \n¡Únete a la Batalla!\n  \nYa seas un estratega veterano de Commander o un Planeswalker que recién se aventura en este formato\, nuestra liga es el lugar perfecto para ti. Es una oportunidad fantástica para: \n\nConocer a otros jugadores de Commander en Vitoria-Gasteiz.\nProbar nuevas estrategias y combos con tu mazo.\nDisfrutar de un ambiente de juego amigable y aprende a jugar cada día más y mejor..\n¡Llevarte premios geniales por jugar a tu juego favorito!\n\nNo dejes pasar esta oportunidad de sumergirte de lleno en el formato más popular de Magic. Prepara a tu comandante\, revisa tus sinergias y únete a nosotros. \n¡Te esperamos todos los viernes de agosto a las 17:00 en Magic All Goal para la Liga de Commander! ¡Que tu comandante te guíe a la victoria! \n\n¿Qué comandante vas a llevar a la batalla para dominar la liga? ¡Cuéntanoslo en los comentarios!
URL:https://magicallgoal.ekarri.es/eu/evento/fnm-liga-commander-del-juego-magic-the-gathering-3/
LOCATION:MAGIC ALL GOAL\, C/FERMÍN LASUEN 7\, VITORIA-GASTEIZ\, ÁLAVA\, 01013\, España
CATEGORIES:MAGIC THE GATHERING
ATTACH;FMTTYPE=image/jpeg:https://magicallgoal.ekarri.es/wp-content/uploads/2025/07/commander-magic-.jpg
ORGANIZER;CN="MAGIC ALL GOAL":MAILTO:magicallgoal@ekarri.es
END:VEVENT
BEGIN:VEVENT
DTSTART;TZID=UTC:20260411T080000
DTEND;TZID=UTC:20260411T213000
DTSTAMP:20260420T224255
CREATED:20260410T115334Z
LAST-MODIFIED:20260410T115855Z
UID:4996-1775894400-1775943000@magicallgoal.ekarri.es
SUMMARY:TORNEO RARITY COLLECTION 5
DESCRIPTION:🃏 ¡MAÑANA SÁBADO: DOBLE RACIÓN DE RARITY COLLECTION! 🃏\n¡Prepárate\, Duelista! Este sábado no es un día cualquiera en Magic All Goal. Es el momento de brillar (literalmente) con el evento de Rarity Collection. ¿Estás listo para upgradear tu Deck con las rarezas más increíbles? \nAquí tienes la hoja de ruta para mañana: \n🕒 Horarios del Torneo\nTenemos dos convocatorias para que nadie se quede fuera: \n\n\nSesión de Mañana: * Inicio: 11:00h \n\n\nDuración: ¡Hasta que el último duelo decida al campeón! \n\n\n\n\nSesión de Tarde: \n\n\nInicio: 17:00h \n\n\nDuración: Hasta el cierre\, dándolo todo en cada fase de batalla. \n\n\n\n\n\n🏆 Detalles del Evento\n\n\nLugar: Magic All Goal. \n\n\nFormato: Yu-Gi-Oh! Rarity Collection. \n\n\nAmbiente: Competitivo\, divertido y lleno de cartas brillantes. \n\n\n\nNota importante: Asegúrate de llegar unos minutos antes de cada sesión para confirmar tu inscripción . \n\n\n🔥 ¿Por qué no puedes faltar?\nEs la oportunidad perfecta para conseguir esas staples que te faltan en rarezas de lujo y compartir con la comunidad local. Ya sea que vengas a por los sobres o por la gloria\, ¡te esperamos en las mesas! \n¡Prepara tus fundas\, baraja con confianza y nos vemos mañana en Magic All Goal! 👊🔥
URL:https://magicallgoal.ekarri.es/eu/evento/torneo-rarity-collection-5/
LOCATION:MAGIC ALL GOAL\, C/FERMÍN LASUEN 7\, VITORIA-GASTEIZ\, ÁLAVA\, 01013\, España
CATEGORIES:Yu-Gi-Oh!
ATTACH;FMTTYPE=image/jpeg:https://magicallgoal.ekarri.es/wp-content/uploads/2026/04/rarity_blog_b28a2554-97b4-4fb2-acf8-864d4ecf8158-2600980923.jpg
ORGANIZER;CN="MAGIC ALL GOAL":MAILTO:magicallgoal@ekarri.es
END:VEVENT
BEGIN:VEVENT
DTSTART;TZID=UTC:20260417T080000
DTEND;TZID=UTC:20260418T170000
DTSTAMP:20260420T224255
CREATED:20260328T211342Z
LAST-MODIFIED:20260328T211342Z
UID:4974-1776412800-1776531600@magicallgoal.ekarri.es
SUMMARY:PRESENTACIÓN DE LA NUEVA COLECCIÓN DE MAGIC THE GATHERING
DESCRIPTION:🎓 PRESENTACIÓN: SECRETS OF STRIXHAVEN 🎓\n📍 Vitoria Magic All Goal \n¡Vuelven las clases a Strixhaven! Prepárate para descubrir la nueva colección con el mejor ambiente de la ciudad. Elige tu horario y tu estilo de juego: \n📅 FECHAS Y HORARIOS \nViernes 17 de Abril – 17:00h \nSábado 18 de Abril – 10:30h \n💰 INSCRIPCIÓN: 30 € (Como siempre) \n🛡️ ELIGE TU MODO DE JUEGO: \nAl inscribirte\, tú decides cómo quieres vivir la experiencia: \nMODO COMPETITIVO: Juegas por el TOP. Tus victorias determinan tus premios en el pool final de sobres. ¡Para los que buscan el desafío! \nMODO PARTY (El favorito): Si prefieres jugar más relajado\, elige el Modo Party. Obtienes 2 SOBRES ADICIONALES asegurados con tu inscripción\, pero no optarías a los premios del ranking final (TOP). ¡Más cartas directas a tu colección sin presión! \n📦 ¿QUÉ INCLUYE EL KIT? \n6 Sobres de Secrets of Strixhaven. \n1 Carta Promo Rare/Mítica con fecha. \n1 Dado Spindown contador de vidas. \n¡Y los 2 sobres extra si eliges el Modo Party! \n¡PLAZAS LIMITADAS! Pásate por la tienda o mándanos un mensaje para reservar tu kit y confirmar tu modo de juego.
URL:https://magicallgoal.ekarri.es/eu/evento/presentacion-de-la-nueva-coleccion-de-magic-the-gathering/
LOCATION:MAGIC ALL GOAL\, C/FERMÍN LASUEN 7\, VITORIA-GASTEIZ\, ÁLAVA\, 01013\, España
CATEGORIES:MAGIC THE GATHERING
ATTACH;FMTTYPE=image/png:https://magicallgoal.ekarri.es/wp-content/uploads/2026/03/aGSsV8XgZARtbGS_1200x630_EN.png
ORGANIZER;CN="MAGIC ALL GOAL":MAILTO:magicallgoal@ekarri.es
END:VEVENT
BEGIN:VEVENT
DTSTART;TZID=UTC:20260419T103000
DTEND;TZID=UTC:20260419T143000
DTSTAMP:20260420T224255
CREATED:20250413T203738Z
LAST-MODIFIED:20260328T205211Z
UID:3713-1776594600-1776609000@magicallgoal.ekarri.es
SUMMARY:TORNEO STORE SHOWDOWN DEL JUEGO STAR WARS UNLIMITED
DESCRIPTION:  \n¡Rebeldes y Soldados Imperiales\, uníos! Torneo de Star Wars: Unlimited – Store Showdown en Vitoria-Gasteiz\n  \nLa batalla por el control de la galaxia llega a Magic All Goal en Vitoria-Gasteiz. ¿Estáis listos para demostrar vuestra habilidad como comandantes? Os invitamos a participar en nuestro emocionante torneo Store Showdown de Star Wars: Unlimited. \n\n  \nDetalles del Evento\n  \n\n¿Qué? Torneo Store Showdown de Star Wars: Unlimited\n¿Cuándo? Domingo 19 de abril\n¿Hora? A las 10:30 de la mañana\n¿Dónde? Magic All Goal\, Vitoria-Gasteiz\nInscripción: 15 euros\n\n\n  \nPremios y Recompensas\n  \nVuestra participación ya tiene premio. Al inscribiros\, recibiréis un pack de recompensas para fortalecer vuestra colección solo por participar.: \n\nTres sobres de la colección a lawless time \nUn sobre Weekly promocional. \n\nAdemás\, los mejores pilotos y estrategas serán recompensados con premios increíbles que provienen de los Kits de Premios exclusivos para este evento: \n\nUn kit Showdown completo con cartas especiales\,  para repartir entre los participantes y también las cartas del top para los ganadores.\nUna caja entera de sobres para repartir entre los ganadores\, para que sigas expandiendo tu poder galáctico.\n\nNo importa si prefieres el lado de la luz o el lado oscuro\, si eres un veterano de la batalla o un novato en este universo. Este torneo es la oportunidad perfecta para medir tu mazo\, conocer a otros jugadores de la comunidad y\, lo más importante\, ¡pasártelo en grande! \n¡Prepara tus cartas\, elige tu bando y ven a luchar por la gloria galáctica! ¡Te esperamos el 19 de abril! \nEnlace para inscribirse al torneo en melee
URL:https://magicallgoal.ekarri.es/eu/evento/torneo-store-showdown-del-juego-star-wars-unlimited/
LOCATION:MAGIC ALL GOAL\, C/FERMÍN LASUEN 7\, VITORIA-GASTEIZ\, ÁLAVA\, 01013\, España
CATEGORIES:STAR WARS UNLMITED
ATTACH;FMTTYPE=image/jpeg:https://magicallgoal.ekarri.es/wp-content/uploads/2025/04/swu-lawless-time-news.jpg
ORGANIZER;CN="MAGIC ALL GOAL":MAILTO:magicallgoal@ekarri.es
END:VEVENT
BEGIN:VEVENT
DTSTART;TZID=UTC:20260501T103000
DTEND;TZID=UTC:20260502T220000
DTSTAMP:20260420T224255
CREATED:20260411T110811Z
LAST-MODIFIED:20260411T120353Z
UID:5000-1777631400-1777759200@magicallgoal.ekarri.es
SUMMARY:📢 PRESENTACIÓN: RIFTBOUND UNLEASHED
DESCRIPTION:⚔️ 1 Y 2 DE MAYO ⚔️\n¡EL MOMENTO HA LLEGADO!\n\n[COORDENADAS DE BATALLA] 📍 Lugar: Magic All Goal (Vitoria-Gasteiz) 🕔 Hora: 10:30 el viernes y el sábado a las 17:00h \n\n[INSCRIPCIÓN Y MATERIAL] 💰 Precio del Kit: 30\,00€ \nEl Kit de Presentación incluye: \n\n\n6 Sobres de Riftbound Unleashed. \n\n\n1 Carta Promo especial del evento. \n\n\nAccesorios (Contador de vida y más). \n\n\nPremios para los mejores clasificados. \n\n\n\n[RESERVA TU PLAZA] \n\n⚠️ ¡AVISO! Las plazas son limitadas y se suelen agotar antes de la fecha. Pásate por Magic All Goal o contacta con ellos para asegurar tu kit de 30€.
URL:https://magicallgoal.ekarri.es/eu/evento/%f0%9f%93%a2-presentacion-riftbound-unleashed/
LOCATION:MAGIC ALL GOAL\, C/FERMÍN LASUEN 7\, VITORIA-GASTEIZ\, ÁLAVA\, 01013\, España
CATEGORIES:RIFTBOUND
ATTACH;FMTTYPE=image/png:https://magicallgoal.ekarri.es/wp-content/uploads/2026/04/Gemini_Generated_Image_2bjrs72bjrs72bjr-1.png
ORGANIZER;CN="MAGIC ALL GOAL":MAILTO:magicallgoal@ekarri.es
END:VEVENT
END:VCALENDAR